BEGIN:VCALENDAR
VERSION:2.0
PRODID:-//The Foreign Mission Board, NBC, USA - ECPv6.15.20//NONSGML v1.0//EN
CALSCALE:GREGORIAN
METHOD:PUBLISH
X-WR-CALNAME:The Foreign Mission Board, NBC, USA
X-ORIGINAL-URL:https://fmbnbc.org
X-WR-CALDESC:Events for The Foreign Mission Board, NBC, USA
REFRESH-INTERVAL;VALUE=DURATION:PT1H
X-Robots-Tag:noindex
X-PUBLISHED-TTL:PT1H
BEGIN:VTIMEZONE
TZID:America/New_York
BEGIN:DAYLIGHT
TZOFFSETFROM:-0500
TZOFFSETTO:-0400
TZNAME:EDT
DTSTART:20230312T070000
END:DAYLIGHT
BEGIN:STANDARD
TZOFFSETFROM:-0400
TZOFFSETTO:-0500
TZNAME:EST
DTSTART:20231105T060000
END:STANDARD
BEGIN:DAYLIGHT
TZOFFSETFROM:-0500
TZOFFSETTO:-0400
TZNAME:EDT
DTSTART:20240310T070000
END:DAYLIGHT
BEGIN:STANDARD
TZOFFSETFROM:-0400
TZOFFSETTO:-0500
TZNAME:EST
DTSTART:20241103T060000
END:STANDARD
BEGIN:DAYLIGHT
TZOFFSETFROM:-0500
TZOFFSETTO:-0400
TZNAME:EDT
DTSTART:20250309T070000
END:DAYLIGHT
BEGIN:STANDARD
TZOFFSETFROM:-0400
TZOFFSETTO:-0500
TZNAME:EST
DTSTART:20251102T060000
END:STANDARD
BEGIN:DAYLIGHT
TZOFFSETFROM:-0500
TZOFFSETTO:-0400
TZNAME:EDT
DTSTART:20260308T070000
END:DAYLIGHT
BEGIN:STANDARD
TZOFFSETFROM:-0400
TZOFFSETTO:-0500
TZNAME:EST
DTSTART:20261101T060000
END:STANDARD
END:VTIMEZONE
BEGIN:VTIMEZONE
TZID:UTC
BEGIN:STANDARD
TZOFFSETFROM:+0000
TZOFFSETTO:+0000
TZNAME:UTC
DTSTART:20230101T000000
END:STANDARD
END:VTIMEZONE
BEGIN:VEVENT
DTSTART;VALUE=DATE:20250113
DTEND;VALUE=DATE:20250117
DTSTAMP:20260423T144606
CREATED:20240708T175748Z
LAST-MODIFIED:20241118T014929Z
UID:2831-1736726400-1737071999@fmbnbc.org
SUMMARY:2025 Mid-Winter Board Meeting
DESCRIPTION:The National Baptist Convention USA invites you to the 2025 Mid-Winter Board Meeting from January 13-16\, 2025\, in Birmingham\, Alabama. This pivotal event will bring together pastors\, ministers\, and leaders nationwide to engage with our new President\, Dr. Boise Kimber\, as he shares his vision for the future of the NBC. Be part of a historic moment as we set the stage for a revitalized mission and collaborative growth within our Convention. \nClick here for more information.
URL:https://fmbnbc.org/event/2025-mid-winter-board-meeting/
LOCATION:Birmingham Jefferson Convenon Complex\, 2100 Richard Arrington Jr. Blvd. N.\, Birmingham\, AL\, 35203\, United States
ATTACH;FMTTYPE=image/png:https://fmbnbc.org/wp-content/uploads/2024/07/conference-1.png
END:VEVENT
BEGIN:VEVENT
DTSTART;TZID=UTC:20241217T160000
DTEND;TZID=UTC:20241217T210000
DTSTAMP:20260423T144606
CREATED:20241118T021345Z
LAST-MODIFIED:20241217T141733Z
UID:28854-1734451200-1734469200@fmbnbc.org
SUMMARY:Annual Rev. Samuel B. Jordan Sr. Christmas Drive
DESCRIPTION:Annual Rev. Samuel B. Jordan Sr. Christmas Drive\nTuesday\, December 17\, 2024\nService In-Person and Live Streamed via the Foreign Mission Board Website\nwww.fmbnbc.org\n  \nGuest Preacher\nDr. Bosie Kimber\, Senior Pastor\nFirst Calvary Baptist Church\nNew Haven\, CT \nLoyal Boosters Hour\n4:00 PM – 5:00 PM \nReception\n5:00 PM – 6:30 PM \nYouth Praise and Worship\n6:30 PM – 7:00 PM \nWorship Service\n7:00 PM \nHost Church\nFirst African Baptist Church\n700-798 N. 67th Street\nPhiladelphia\, PA 19151\nRev. Terrence D. Griffith\, Pastor \n  \nWatch Live
URL:https://fmbnbc.org/event/annual-rev-samuel-b-jordan-sr-christmas-drive/
LOCATION:First African Baptist Church\, 700-798 N. 67th Street\, Philadelphia\, PA\, 19151\, United States
ATTACH;FMTTYPE=image/png:https://fmbnbc.org/wp-content/uploads/2024/11/Christmas-Drive-1.png
END:VEVENT
BEGIN:VEVENT
DTSTART;TZID=America/New_York:20241209T190000
DTEND;TZID=America/New_York:20241209T190000
DTSTAMP:20260423T144606
CREATED:20241117T000047Z
LAST-MODIFIED:20241118T024222Z
UID:28858-1733770800-1733770800@fmbnbc.org
SUMMARY:Rev. Samuel B. Jordan Sr. Christmas Drive Evening Minister's Conference
DESCRIPTION:Join the Foreign Mission Board of the National Baptist Convention for our Annual Rev. Samuel B. Jordan Sr. Christmas Drive.
URL:https://fmbnbc.org/event/rev-samuel-b-jordan-sr-christmas-drive-evening-ministers-conference/
LOCATION:New Gethsemane Baptist Church\, 917 E. Chelten Avenue\, Philadelphia\, 19138\, United States
ATTACH;FMTTYPE=image/png:https://fmbnbc.org/wp-content/uploads/2024/11/Christmas-Drive-2.png
END:VEVENT
BEGIN:VEVENT
DTSTART;TZID=America/New_York:20241209T134500
DTEND;TZID=America/New_York:20241209T134500
DTSTAMP:20260423T144606
CREATED:20241118T013241Z
LAST-MODIFIED:20241118T023840Z
UID:28841-1733751900-1733751900@fmbnbc.org
SUMMARY:Rev. Samuel B. Jordan Sr. Christmas Drive Afternoon Minister's Conference
DESCRIPTION:Join the Foreign Mission Board of the National Baptist Convention for our Annual Rev. Samuel B. Jordan Sr. Christmas Drive.
URL:https://fmbnbc.org/event/rev-samuel-b-jordan-sr-christmas-drive-afternoon-ministers-conference/
LOCATION:Second Mt. Zion Baptist Church\, 3814-3820 Parrish Street\, Philadelphia\, PA\, United States
ATTACH;FMTTYPE=image/png:https://fmbnbc.org/wp-content/uploads/2024/11/Christmas-Drive-2.png
END:VEVENT
END:VCALENDAR